BEGIN:VCALENDAR
VERSION:2.0
PRODID:-//wp-events-plugin.com//7.2.3.1//EN
TZID:Europe/Helsinki
X-WR-TIMEZONE:Europe/Helsinki
BEGIN:VEVENT
UID:2339@sinkkutapahtumat.fi
DTSTART;TZID=Europe/Helsinki;VALUE=DATE:20240108
DTEND;TZID=Europe/Helsinki;VALUE=DATE:20240116
DTSTAMP:20231123T122741Z
URL:https://sinkkutapahtumat.fi/tapahtumat/fuerteventuran-matka/
SUMMARY:Fuerteventuran matka - MYYTY
DESCRIPTION:Lähde nyt mukaan unohtumattomalle Fuerteventuran matkalle tamm
 ikuussa 2024! Tämä loma tarjoaa täydellisen mahdollisuuden rentoutua ja
  nauttia upeasta saaresta.
ATTACH;FMTTYPE=image/jpeg:https://sinkkutapahtumat.fi/wp-content/uploads/2
 023/09/fuerteventura.jpeg
CATEGORIES:matka
LOCATION:Nautico Suites Corralejo\, 20 Calle Nuestra Señora del Pilar\, Co
 rralejo\, Fuerteventura\, Espanja
X-APPLE-STRUCTURED-LOCATION;VALUE=URI;X-ADDRESS=20 Calle Nuestra Señora de
 l Pilar\, Corralejo\, Fuerteventura\, Espanja;X-APPLE-RADIUS=100;X-TITLE=N
 autico Suites Corralejo:geo:0,0
END:VEVENT
BEGIN:VTIMEZONE
TZID:Europe/Helsinki
X-LIC-LOCATION:Europe/Helsinki
BEGIN:STANDARD
DTSTART:20231029T030000
TZOFFSETFROM:+0300
TZOFFSETTO:+0200
TZNAME:EET
END:STANDARD
END:VTIMEZONE
END:VCALENDAR