BEGIN:VCALENDAR
VERSION:2.0
PRODID:-//wp-events-plugin.com//7.2.3.1//EN
TZID:Europe/Helsinki
X-WR-TIMEZONE:Europe/Helsinki
BEGIN:VEVENT
UID:2427@sinkkutapahtumat.fi
DTSTART;TZID=Europe/Helsinki:20231224T180000
DTEND;TZID=Europe/Helsinki:20231224T210000
DTSTAMP:20231202T070141Z
URL:https://sinkkutapahtumat.fi/tapahtumat/joulun-juttelut/
SUMMARY:Joulun juttelut
DESCRIPTION:Tervetuloa linjoille 24.12.2023: Joulun juttelut on auki 18:00 
 alkaen ja voit tulla mukaan paikasta riippumattomasti. Tämä on sinkuille
 \, jotka eivät "hiljenny" joulunviettoon \;)
ATTACH;FMTTYPE=image/jpeg:https://sinkkutapahtumat.fi/wp-content/uploads/2
 022/11/joulu-jitsi.jpeg
CATEGORIES:juttelu
LOCATION:https://meet.jit.si/SinkkuTontutJuttelee
END:VEVENT
BEGIN:VTIMEZONE
TZID:Europe/Helsinki
X-LIC-LOCATION:Europe/Helsinki
BEGIN:STANDARD
DTSTART:20231029T030000
TZOFFSETFROM:+0300
TZOFFSETTO:+0200
TZNAME:EET
END:STANDARD
END:VTIMEZONE
END:VCALENDAR