BEGIN:VCALENDAR
VERSION:2.0
PRODID:-//wp-events-plugin.com//7.2.3.1//EN
TZID:Europe/Helsinki
X-WR-TIMEZONE:Europe/Helsinki
BEGIN:VEVENT
UID:2310@sinkkutapahtumat.fi
DTSTART;TZID=Europe/Helsinki:20230716T130000
DTEND;TZID=Europe/Helsinki:20230716T160000
DTSTAMP:20230705T185424Z
URL:https://sinkkutapahtumat.fi/tapahtumat/kavelyretki-tampere-3/
SUMMARY:Kävelyretki Tampere
DESCRIPTION:Kävelyretki Tampere: Kokoontuminen  klo 13. sunnuntai 16.7.
   Pyynikintori kellon alla.\nKäydään kävelyn ohella myös kahvilla.
CATEGORIES:kävely,Tampereen sinkut
LOCATION:Tampereen Pyynikintori\, Pyynikintori\, Tampere\, Suomi
X-APPLE-STRUCTURED-LOCATION;VALUE=URI;X-ADDRESS=Pyynikintori\, Tampere\, Su
 omi;X-APPLE-RADIUS=100;X-TITLE=Tampereen Pyynikintori:geo:0,0
END:VEVENT
BEGIN:VTIMEZONE
TZID:Europe/Helsinki
X-LIC-LOCATION:Europe/Helsinki
BEGIN:DAYLIGHT
DTSTART:20230326T040000
TZOFFSETFROM:+0200
TZOFFSETTO:+0300
TZNAME:EEST
END:DAYLIGHT
END:VTIMEZONE
END:VCALENDAR