BEGIN:VCALENDAR
VERSION:2.0
PRODID:-//wp-events-plugin.com//7.2.3.1//EN
TZID:Europe/Helsinki
X-WR-TIMEZONE:Europe/Helsinki
BEGIN:VEVENT
UID:3064@sinkkutapahtumat.fi
DTSTART;TZID=Europe/Helsinki:20250112T170000
DTEND;TZID=Europe/Helsinki:20250112T180000
DTSTAMP:20241204T145439Z
URL:https://sinkkutapahtumat.fi/tapahtumat/kirjapiiri-2025-01-12/
SUMMARY:Kirjapiiri
DESCRIPTION:Kirjapiiri kuukauden toinen sunnuntai klo 17-18 verkossa. Kuuka
 usittain tietty kirja\, jonka lukemisen jälkeen pääsemme yhdessä jutte
 lemaan siitä. Ei ole väliä\, oletko lukenut kirjan kokonaan tai vain os
 an.
ATTACH;FMTTYPE=image/jpeg:https://sinkkutapahtumat.fi/wp-content/uploads/2
 024/08/kirjapiiri-st.jpg
CATEGORIES:web-netti
END:VEVENT
BEGIN:VTIMEZONE
TZID:Europe/Helsinki
X-LIC-LOCATION:Europe/Helsinki
BEGIN:STANDARD
DTSTART:20241027T030000
TZOFFSETFROM:+0300
TZOFFSETTO:+0200
TZNAME:EET
END:STANDARD
END:VTIMEZONE
END:VCALENDAR