BEGIN:VCALENDAR
VERSION:2.0
PRODID:-//wp-events-plugin.com//7.2.3.1//EN
TZID:Europe/Helsinki
X-WR-TIMEZONE:Europe/Helsinki
BEGIN:VEVENT
UID:2475@sinkkutapahtumat.fi
DTSTART;TZID=Europe/Helsinki:20240121T120000
DTEND;TZID=Europe/Helsinki:20240121T150000
DTSTAMP:20240118T090437Z
URL:https://sinkkutapahtumat.fi/tapahtumat/makkaranpaistoretki-tampereella
 /
SUMMARY:Makkaranpaistoretki Tampereella
DESCRIPTION:Makkaranpaistoretki Tampereella 21.1.2024 klo 12-15. Tervetuloa
  nauttimaan raikkaasta ulkoilmasta\, hyvästä seurasta ja herkullisista m
 akkarasapuskoista.
ATTACH;FMTTYPE=image/jpeg:https://sinkkutapahtumat.fi/wp-content/uploads/2
 024/01/makkaranpaistoa-talvi.jpg
CATEGORIES:kävely,retkeily,Tampereen sinkut,vaellussinkut
LOCATION:Kaupinojan uimaranta\, Kaupinpuistonkatu 1\, Tampere\, Suomi
X-APPLE-STRUCTURED-LOCATION;VALUE=URI;X-ADDRESS=Kaupinpuistonkatu 1\, Tampe
 re\, Suomi;X-APPLE-RADIUS=100;X-TITLE=Kaupinojan uimaranta:geo:0,0
END:VEVENT
BEGIN:VTIMEZONE
TZID:Europe/Helsinki
X-LIC-LOCATION:Europe/Helsinki
BEGIN:STANDARD
DTSTART:20231029T030000
TZOFFSETFROM:+0300
TZOFFSETTO:+0200
TZNAME:EET
END:STANDARD
END:VTIMEZONE
END:VCALENDAR