BEGIN:VCALENDAR
VERSION:2.0
PRODID:-//wp-events-plugin.com//7.2.3.1//EN
TZID:Europe/Helsinki
X-WR-TIMEZONE:Europe/Helsinki
BEGIN:VEVENT
UID:3105@sinkkutapahtumat.fi
DTSTART;TZID=Europe/Helsinki:20241102T210000
DTEND;TZID=Europe/Helsinki:20241103T003000
DTSTAMP:20241009T091623Z
URL:https://sinkkutapahtumat.fi/tapahtumat/milliklubin-sinkkubileet-3/
SUMMARY:Milliklubin Sinkkubileet
DESCRIPTION:Milliklubin Sinkkubileet 2.11.2024 klo 21 alkaen. Kun menojalka
 a kutkuttaa ja haluat mennä etkä meinata. Ikäraja 24v. Liput 9\,50€. 
 Tervetuloa
ATTACH;FMTTYPE=image/jpeg:https://sinkkutapahtumat.fi/wp-content/uploads/2
 024/10/milliklubin-sinkkubileet.jpeg
CATEGORIES:sinkkubileet,Uudenmaan sinkut
LOCATION:Milliklubi Bar & Disco\, Kaivokatu 12\, Helsinki\, Suomi
X-APPLE-STRUCTURED-LOCATION;VALUE=URI;X-ADDRESS=Kaivokatu 12\, Helsinki\, S
 uomi;X-APPLE-RADIUS=100;X-TITLE=Milliklubi Bar & Disco:geo:0,0
END:VEVENT
BEGIN:VTIMEZONE
TZID:Europe/Helsinki
X-LIC-LOCATION:Europe/Helsinki
BEGIN:STANDARD
DTSTART:20241027T030000
TZOFFSETFROM:+0300
TZOFFSETTO:+0200
TZNAME:EET
END:STANDARD
END:VTIMEZONE
END:VCALENDAR