BEGIN:VCALENDAR
VERSION:2.0
PRODID:-//wp-events-plugin.com//7.2.3.1//EN
TZID:Europe/Helsinki
X-WR-TIMEZONE:Europe/Helsinki
BEGIN:VEVENT
UID:3123@sinkkutapahtumat.fi
DTSTART;TZID=Europe/Helsinki:20241227T210000
DTEND;TZID=Europe/Helsinki:20241228T043000
DTSTAMP:20241220T132539Z
URL:https://sinkkutapahtumat.fi/tapahtumat/palmasin-sinkkubileet-2/
SUMMARY:Palmasin Sinkkubileet
DESCRIPTION:Palmasin sinkkubileet Joensuussa 27.12.2024 klo 21 alkaen. Terv
 etuloa viettämään joulujälkeistä bilepöhinää.
ATTACH;FMTTYPE=image/jpeg:https://sinkkutapahtumat.fi/wp-content/uploads/2
 024/12/sinkkubileet-general.jpeg
CATEGORIES:sinkkubileet
LOCATION:Las Palmas Kimmel\, Itäranta 1\, Joensuu\, Suomi
X-APPLE-STRUCTURED-LOCATION;VALUE=URI;X-ADDRESS=Itäranta 1\, Joensuu\, Suo
 mi;X-APPLE-RADIUS=100;X-TITLE=Las Palmas Kimmel:geo:0,0
END:VEVENT
BEGIN:VTIMEZONE
TZID:Europe/Helsinki
X-LIC-LOCATION:Europe/Helsinki
BEGIN:STANDARD
DTSTART:20241027T030000
TZOFFSETFROM:+0300
TZOFFSETTO:+0200
TZNAME:EET
END:STANDARD
END:VTIMEZONE
END:VCALENDAR