BEGIN:VCALENDAR
VERSION:2.0
PRODID:-//wp-events-plugin.com//7.2.3.1//EN
TZID:Europe/Helsinki
X-WR-TIMEZONE:Europe/Helsinki
BEGIN:VEVENT
UID:3631@sinkkutapahtumat.fi
DTSTART;TZID=Europe/Helsinki:20260322T130000
DTEND;TZID=Europe/Helsinki:20260322T160000
DTSTAMP:20260302T211800Z
URL:https://sinkkutapahtumat.fi/tapahtumat/saadon-sijaan-saaret-liikkeelle
 -talsimista-mansessa-naas/
SUMMARY:Säädön sijaan sääret liikkeelle: talsimista Mansessa nääs.
DESCRIPTION:Edelleen sinkku? Ehkä vika on siinä\, ettet poistu kotoasi.\n
 Maineesi voi tarvita raikasta ilmaa.\nUnohda streamimaratonit ja tule ulko
 iluttamaan itseäsi muiden kohtalotovereiden kanssa.\n\nRaahaudutaan alkut
 apaamiseen Pyynikintorin kellon alle. Se on se maamerkki jota et voi missa
 ta\, ellet tuijota vain puhelintasi.\nJätetään ne epätoivoiset mitä k
 uuluu-viestit väliin ja kokeillaan\, miltä toinen ihminen näyttää raa
 kakuvanaan käppäilyn ohessa.\n\nAika:\nSunnuntaina 22.3. klo 13:00.\n\nP
 aikka:\nPyynikintori\, keskellä toria olevan kellon alla.\n\nReitti:\nPä
 ätetään paikan päällä. Jos kukaan ei osaa päättää\, vaelletaan n
 iin kauan\, että joku murtuu.\nMatkaa kertyy arviolta 4-5km. Tai ehkä ku
 us. Jos oikein innostutaan\, mennään kymmeneen asti.\n\nKesto:\nPari-kol
 me tuntia tallustelua ja mahdolliset kahvit/teet höystöineen\, jos jaksa
 t kuunnella muiden juttuja vielä lenkin jälkeenkin. Kulkutahdin määrä
 ä hitain tai se\, jolla on parhaat jutut.\n\nOsallistumismaksu:\nTasaraha
  0€\, halvempaa kuin yksikään epäonnistunut deittisovelluksen premium
 -tilaus.\nSaavu vain paikalle!\n\nOhjelma:\nTaaperretaan pari-kolme tuntia
  pitkin kaupunkia tai metsäreiteillä riippuen siitä\, kuinka paljon por
 ukka pelkää sen hetkisiä sääolosuhteita. Onko suuntavaisto yhtä huka
 ssa kuin rakkauselämä? Tervetuloa tälle opastetulle harhailulle.\nMikä
 li jutut ovat huonoja\, voit aina yrittää madaltaa tasoa entisestään t
 ai lisätä vauhtia ja kipittää karkuun.\nGhostaa sänky ja tuu meidän 
 kaa kellon alle!\n\nPukeutuminen ja monot sään mukaan\, eli vedä niskaa
 n jotain\, mikä kestää katseen sekä kelin.\n\nMiten sinne pääsee?\nR
 atikkapysäkit ovat vieressä: Pyynikintori A 0801 ja Pyynikintori B 0802.
 \nBussipysäkkejäkin on useita: Pyynikontori C 0026\, D 0028\, E 0029 ja 
 F 0031 sekä nurkan takana Mariankatu 0064 ja 0065.\nAutolla saapuville on
  torilla sekä ympäristössä ilmaisia parkkipaikkoja.\n\nMiksi jättää
  väliin? (UKK)\nEntä jos kukaan ei puhu mulle? Sitten olet saanut ainaki
 n hyötyliikuntaa. Sitä paitsi\, hiljaisuus on usein parempaa kuin huono 
 small talk.\nSataa vettä: Sokeristako olet? Vedä huppu päähän tai ota
  varjo mukaan.\nPelkäät ryhmäpaineita: Meillä ei ole paineita\, meill
 ä on vain jalkoja ja huonoja vitsejä.\nPitää siivota: Pöly odottaa si
 nua kotiin\, me emme.\nKissa ruokkimatta: Kissa pärjää muutaman tunnin\
 , mutta sinä et pärjää loppuelämääsi yksin sen kissan kanssa.\n\nN
 ämä saattavat olla sunnuntain surkeimmat treffit\, eikä takuulla ole si
 toutumispakkoa.\n\n&nbsp\;
ATTACH;FMTTYPE=image/jpeg:https://sinkkutapahtumat.fi/wp-content/uploads/2
 026/03/patikka_pyynikintori1.jpg
CATEGORIES:juttelu,kahvi,kävely,Tampereen sinkut
LOCATION:Tampereen Pyynikintori\, Pyynikintori\, Tampere\, Suomi
X-APPLE-STRUCTURED-LOCATION;VALUE=URI;X-ADDRESS=Pyynikintori\, Tampere\, Su
 omi;X-APPLE-RADIUS=100;X-TITLE=Tampereen Pyynikintori:geo:0,0
END:VEVENT
BEGIN:VTIMEZONE
TZID:Europe/Helsinki
X-LIC-LOCATION:Europe/Helsinki
BEGIN:STANDARD
DTSTART:20251026T030000
TZOFFSETFROM:+0300
TZOFFSETTO:+0200
TZNAME:EET
END:STANDARD
END:VTIMEZONE
END:VCALENDAR