BEGIN:VCALENDAR
VERSION:2.0
PRODID:-//wp-events-plugin.com//7.2.3.1//EN
TZID:Europe/Helsinki
X-WR-TIMEZONE:Europe/Helsinki
BEGIN:VEVENT
UID:3601@sinkkutapahtumat.fi
DTSTART;TZID=Europe/Helsinki:20260227T170000
DTEND;TZID=Europe/Helsinki:20260227T200000
DTSTAMP:20260111T215939Z
URL:https://sinkkutapahtumat.fi/tapahtumat/seurapeli-ilta-sinkuille-5/
SUMMARY:Seurapeli-ilta sinkuille
DESCRIPTION:Lauta-\, kortti- ja noppapelejä sinkkujen vertaisporukalla.\nV
 oit myös tuoda mukana pelejä\, joita haluaisit pelata.\nTarjolla teetä\
 , mehua ja kahvia. Ota muut eväät itse mukaasi.\nPaikka: Kammari\, Häme
 enkatu 28\, Tampere.\nOvet aukeavat kello 17 ja peliaikaa on kolme tuntia 
 kello 20 asti.\nSeurapeli-illat sinkuille toteutuvat keväällä 2026 kerr
 an kuukaudessa\, sen viimeisellä parittomalla viikolla.\nTapahtuma on Tam
 pereen seurakuntien vapaaehtoisten järjestämä\, mutta ei uskonnollinen.
 \n\nLisätiedot: https://tampereenseurakunnat.fi/sivustot/tampereen_sinkut
 /toimintaa/kammarin_seurapeli-ilta
ATTACH;FMTTYPE=image/jpeg:https://sinkkutapahtumat.fi/wp-content/uploads/2
 026/01/yat_a4_2026_kevat_seurapelit_color_658x930-3.jpg
CATEGORIES:juttelu,kahvi,kuukausittainen,lautapelit,pelit,sinkkuilta,Tampe
 reen sinkut
LOCATION:Kammari\, Hämeenkatu 28\, Tampere\, 33100\, Suomi
X-APPLE-STRUCTURED-LOCATION;VALUE=URI;X-ADDRESS=Hämeenkatu 28\, Tampere\, 
 33100\, Suomi;X-APPLE-RADIUS=100;X-TITLE=Kammari:geo:0,0
END:VEVENT
BEGIN:VTIMEZONE
TZID:Europe/Helsinki
X-LIC-LOCATION:Europe/Helsinki
BEGIN:STANDARD
DTSTART:20251026T030000
TZOFFSETFROM:+0300
TZOFFSETTO:+0200
TZNAME:EET
END:STANDARD
END:VTIMEZONE
END:VCALENDAR