BEGIN:VCALENDAR
VERSION:2.0
PRODID:-//wp-events-plugin.com//7.2.3.1//EN
TZID:Europe/Helsinki
X-WR-TIMEZONE:Europe/Helsinki
BEGIN:VEVENT
UID:2428@sinkkutapahtumat.fi
DTSTART;TZID=Europe/Helsinki:20231216T150000
DTEND;TZID=Europe/Helsinki:20231217T150000
DTSTAMP:20231207T183655Z
URL:https://sinkkutapahtumat.fi/tapahtumat/sinkku-joulu-bileet/
SUMMARY:Sinkku Joulu Bileet
DESCRIPTION:Bileet Järjestetään motellin ja baarin tiloissa.\n\nMotelli 
 huoneet puoleen hintaan ennakko varauksella!!!\n\n1hh 25e (50e)\n\n2hh 40e
  (65e)\n\nKaraokea &amp\; Bilistä &amp\; kisoja\n\n0400997565
CATEGORIES:baari,biljardi,karaoke,musiikki,sinkkubileet
LOCATION:Ingala Motel &amp\; Ingala Bar\, Bölentie 98 \, Inkoo\, 10120\, T
 ähtelä\, Suomi
X-APPLE-STRUCTURED-LOCATION;VALUE=URI;X-ADDRESS=Bölentie 98 \, Inkoo\, 101
 20\, Tähtelä\, Suomi;X-APPLE-RADIUS=100;X-TITLE=Ingala Motel & Ingala Ba
 r:geo:0,0
END:VEVENT
BEGIN:VTIMEZONE
TZID:Europe/Helsinki
X-LIC-LOCATION:Europe/Helsinki
BEGIN:STANDARD
DTSTART:20231029T030000
TZOFFSETFROM:+0300
TZOFFSETTO:+0200
TZNAME:EET
END:STANDARD
END:VTIMEZONE
END:VCALENDAR