BEGIN:VCALENDAR
VERSION:2.0
PRODID:-//wp-events-plugin.com//7.2.3.1//EN
TZID:Europe/Helsinki
X-WR-TIMEZONE:Europe/Helsinki
BEGIN:VEVENT
UID:3118@sinkkutapahtumat.fi
DTSTART;TZID=Europe/Helsinki:20241129T180000
DTEND;TZID=Europe/Helsinki:20241130T010000
DTSTAMP:20241123T172717Z
URL:https://sinkkutapahtumat.fi/tapahtumat/sinkku-viikonloppu-1/
SUMMARY:Sinkku viikonloppu
DESCRIPTION:Sinkku viikonloppu Jyväskylässä: Perjantaina 29.11 klo 18-01
 \, 20+ (Lauantaina vanhemmat). Hinta 30€ sisältää ruokaa ja ohjelmaa.
ATTACH;FMTTYPE=image/jpeg:https://sinkkutapahtumat.fi/wp-content/uploads/2
 024/11/kadet-lasit-juhla.jpeg
CATEGORIES:baari,Jyväskylän sinkut,sinkkubileet
LOCATION:Old Man House\, Vesanka\, Jyväskylä\, Keski-Suomi\, Suomi
X-APPLE-STRUCTURED-LOCATION;VALUE=URI;X-ADDRESS=Vesanka\, Jyväskylä\, Kes
 ki-Suomi\, Suomi;X-APPLE-RADIUS=100;X-TITLE=Old Man House:geo:0,0
END:VEVENT
BEGIN:VTIMEZONE
TZID:Europe/Helsinki
X-LIC-LOCATION:Europe/Helsinki
BEGIN:STANDARD
DTSTART:20241027T030000
TZOFFSETFROM:+0300
TZOFFSETTO:+0200
TZNAME:EET
END:STANDARD
END:VTIMEZONE
END:VCALENDAR