BEGIN:VCALENDAR
VERSION:2.0
PRODID:-//wp-events-plugin.com//7.2.3.1//EN
TZID:Europe/Helsinki
X-WR-TIMEZONE:Europe/Helsinki
BEGIN:VEVENT
UID:2479@sinkkutapahtumat.fi
DTSTART;TZID=Europe/Helsinki:20240217T220000
DTEND;TZID=Europe/Helsinki:20240218T040000
DTSTAMP:20240111T151530Z
URL:https://sinkkutapahtumat.fi/tapahtumat/sinkkubileet-blakkari/
SUMMARY:Sinkkubileet Bläkkäri
DESCRIPTION:Sinkkubileet Bläkkärissa Helsingissä 17.2.2024 klo 22 alkaen
 . Tervetuloa bilettämään!
ATTACH;FMTTYPE=image/jpeg:https://sinkkutapahtumat.fi/wp-content/uploads/2
 024/01/sinkkubileet-blakkari.jpeg
CATEGORIES:sinkkubileet
LOCATION:Black Bird\, Turunlinnantie 8\, Helsinki\, 00930\, Suomi
X-APPLE-STRUCTURED-LOCATION;VALUE=URI;X-ADDRESS=Turunlinnantie 8\, Helsinki
 \, 00930\, Suomi;X-APPLE-RADIUS=100;X-TITLE=Black Bird:geo:0,0
END:VEVENT
BEGIN:VTIMEZONE
TZID:Europe/Helsinki
X-LIC-LOCATION:Europe/Helsinki
BEGIN:STANDARD
DTSTART:20231029T030000
TZOFFSETFROM:+0300
TZOFFSETTO:+0200
TZNAME:EET
END:STANDARD
END:VTIMEZONE
END:VCALENDAR