BEGIN:VCALENDAR
VERSION:2.0
PRODID:-//wp-events-plugin.com//7.2.3.1//EN
TZID:Europe/Helsinki
X-WR-TIMEZONE:Europe/Helsinki
BEGIN:VEVENT
UID:2060@sinkkutapahtumat.fi
DTSTART;TZID=Europe/Helsinki:20230429T220000
DTEND;TZID=Europe/Helsinki:20230430T040000
DTSTAMP:20230214T174201Z
URL:https://sinkkutapahtumat.fi/tapahtumat/sinkkubileet-dj-ice-k/
SUMMARY:Sinkkubileet - Dj Ice K
DESCRIPTION:Sinkkubileet Tulisuudelmassa Vantaalla 29.4.2023 klo 22 alkaen.
  Liput lähtee hintaan min. 16€/hlö.
CATEGORIES:sinkkubileet,Uudenmaan sinkut
LOCATION:Tulisuudelma\, Hertaksentie 2\, Vantaa\, Suomi
X-APPLE-STRUCTURED-LOCATION;VALUE=URI;X-ADDRESS=Hertaksentie 2\, Vantaa\, S
 uomi;X-APPLE-RADIUS=100;X-TITLE=Tulisuudelma:geo:0,0
END:VEVENT
BEGIN:VTIMEZONE
TZID:Europe/Helsinki
X-LIC-LOCATION:Europe/Helsinki
BEGIN:DAYLIGHT
DTSTART:20230326T040000
TZOFFSETFROM:+0200
TZOFFSETTO:+0300
TZNAME:EEST
END:DAYLIGHT
END:VTIMEZONE
END:VCALENDAR