BEGIN:VCALENDAR
VERSION:2.0
PRODID:-//wp-events-plugin.com//7.2.3.1//EN
TZID:Europe/Helsinki
X-WR-TIMEZONE:Europe/Helsinki
BEGIN:VEVENT
UID:2275@sinkkutapahtumat.fi
DTSTART;TZID=Europe/Helsinki:20230421T220000
DTEND;TZID=Europe/Helsinki:20230422T040000
DTSTAMP:20230408T061608Z
URL:https://sinkkutapahtumat.fi/tapahtumat/sinkkubileet-dondossa/
SUMMARY:Sinkkubileet Dondossa
DESCRIPTION:Sinkkubileet Dondossa 21.4.2023 / Vantaa Myyrmäki.  Näitä bi
 leitä ei yksikään sinkku voi jättää väliin. Huomattavasti tehokkaam
 paa ku Tinder-selailu. Sinkkubileitä hostaamassa Mr Holmsten ja DJ Chena.
  
CATEGORIES:sinkkubileet,Uudenmaan sinkut
LOCATION:Red Onion\, Iskoskuja 3 b 45\, Vantaa\, (Kauppakeskus Myyrmanni)\,
  Suomi
X-APPLE-STRUCTURED-LOCATION;VALUE=URI;X-ADDRESS=Iskoskuja 3 b 45\, Vantaa\,
  (Kauppakeskus Myyrmanni)\, Suomi;X-APPLE-RADIUS=100;X-TITLE=Red Onion:geo
 :0,0
END:VEVENT
BEGIN:VTIMEZONE
TZID:Europe/Helsinki
X-LIC-LOCATION:Europe/Helsinki
BEGIN:DAYLIGHT
DTSTART:20230326T040000
TZOFFSETFROM:+0200
TZOFFSETTO:+0300
TZNAME:EEST
END:DAYLIGHT
END:VTIMEZONE
END:VCALENDAR