BEGIN:VCALENDAR
VERSION:2.0
PRODID:-//wp-events-plugin.com//7.2.3.1//EN
TZID:Europe/Helsinki
X-WR-TIMEZONE:Europe/Helsinki
BEGIN:VEVENT
UID:3495@sinkkutapahtumat.fi
DTSTART;TZID=Europe/Helsinki:20250524T210000
DTEND;TZID=Europe/Helsinki:20250524T235900
DTSTAMP:20250521T162009Z
URL:https://sinkkutapahtumat.fi/tapahtumat/sinkkubileet-ja-karaoke/
SUMMARY:Sinkkubileet ja karaoke
DESCRIPTION:SINKKUBILEET MILLISSÄ 24.5. KLO 21 ALKAEN!🤩\n\n \n\nKaipaa
 tko rakkautta tai edes duettokaveria? Tervetuloa Milliklubille löytämä
 än elämäsi match – edes yhden laulun ajaksi 😍✨\n\n&nbsp\;\n\nTun
 nelman pitää yllä koko illan loistava D’Jay-A ja sinkkurannekkeella s
 aat etuja jopa -50% KOKO ILLAN🤩\n\n&nbsp\;\n\nMitä? Sinkkubileet Milli
 klubilla\n\nMilloin? Lauantaina 24.5. klo 21 alkaen\n\n&nbsp\;\n\nTuu rohk
 easti messiin! Ehkä lavalla löytyy enemmän kuin pelkkä yhteinen sävel
 !👀❤️‍🔥
LOCATION:Milliklubi Bar & Disco\, Kaivokatu 12\, Helsinki\, Suomi
X-APPLE-STRUCTURED-LOCATION;VALUE=URI;X-ADDRESS=Kaivokatu 12\, Helsinki\, S
 uomi;X-APPLE-RADIUS=100;X-TITLE=Milliklubi Bar & Disco:geo:0,0
END:VEVENT
BEGIN:VTIMEZONE
TZID:Europe/Helsinki
X-LIC-LOCATION:Europe/Helsinki
BEGIN:DAYLIGHT
DTSTART:20250330T040000
TZOFFSETFROM:+0200
TZOFFSETTO:+0300
TZNAME:EEST
END:DAYLIGHT
END:VTIMEZONE
END:VCALENDAR