BEGIN:VCALENDAR
VERSION:2.0
PRODID:-//wp-events-plugin.com//7.2.3.1//EN
TZID:Europe/Helsinki
X-WR-TIMEZONE:Europe/Helsinki
BEGIN:VEVENT
UID:2330@sinkkutapahtumat.fi
DTSTART;TZID=Europe/Helsinki:20230902T180000
DTEND;TZID=Europe/Helsinki:20230903T043000
DTSTAMP:20230902T160215Z
URL:https://sinkkutapahtumat.fi/tapahtumat/sinkkubileet-kraken-helsinki-2/
SUMMARY:SINKKUBILEET Kraken Helsinki
DESCRIPTION:2.9.2023 Sinkkubileet Kraken Helsinki. Sisältää Speeddating.
  Karaokea lauletaan myös ja tanssijalkaa vipattaa uusilla sekä vanhoilla
  hiteillään: DJ J'liciouS
CATEGORIES:sinkkubileet,Uudenmaan sinkut
LOCATION:Kraken Helsinki\, Hietaniemenkatu 2\, Helsinki\, Uusimaa\, 00100\,
  Suomi
X-APPLE-STRUCTURED-LOCATION;VALUE=URI;X-ADDRESS=Hietaniemenkatu 2\, Helsink
 i\, Uusimaa\, 00100\, Suomi;X-APPLE-RADIUS=100;X-TITLE=Kraken Helsinki:geo
 :0,0
END:VEVENT
BEGIN:VTIMEZONE
TZID:Europe/Helsinki
X-LIC-LOCATION:Europe/Helsinki
BEGIN:DAYLIGHT
DTSTART:20230326T040000
TZOFFSETFROM:+0200
TZOFFSETTO:+0300
TZNAME:EEST
END:DAYLIGHT
END:VTIMEZONE
END:VCALENDAR