BEGIN:VCALENDAR
VERSION:2.0
PRODID:-//wp-events-plugin.com//7.2.3.1//EN
TZID:Europe/Helsinki
X-WR-TIMEZONE:Europe/Helsinki
BEGIN:VEVENT
UID:3111@sinkkutapahtumat.fi
DTSTART;TZID=Europe/Helsinki:20241019T220000
DTEND;TZID=Europe/Helsinki:20241020T033000
DTSTAMP:20241009T094416Z
URL:https://sinkkutapahtumat.fi/tapahtumat/sinkkubileet-uusikaupunki/
SUMMARY:Sinkkubileet Uusikaupunki
DESCRIPTION:Sinkkubileet Uusikaupunki 19.10.2024 klo 22 alkaen. K18 ikäraj
 oitus. Liput 8€ + narikka. Tervetuloa.
ATTACH;FMTTYPE=image/jpeg:https://sinkkutapahtumat.fi/wp-content/uploads/2
 024/10/sinkkubileet-yleis.jpeg
CATEGORIES:sinkkubileet
LOCATION:Bar Muki\, Koulukatu 2\, Uusikaupunki\, Suomi
X-APPLE-STRUCTURED-LOCATION;VALUE=URI;X-ADDRESS=Koulukatu 2\, Uusikaupunki\
 , Suomi;X-APPLE-RADIUS=100;X-TITLE=Bar Muki:geo:0,0
END:VEVENT
BEGIN:VTIMEZONE
TZID:Europe/Helsinki
X-LIC-LOCATION:Europe/Helsinki
BEGIN:DAYLIGHT
DTSTART:20240331T040000
TZOFFSETFROM:+0200
TZOFFSETTO:+0300
TZNAME:EEST
END:DAYLIGHT
END:VTIMEZONE
END:VCALENDAR