BEGIN:VCALENDAR
VERSION:2.0
PRODID:-//wp-events-plugin.com//7.2.3.1//EN
TZID:Europe/Helsinki
X-WR-TIMEZONE:Europe/Helsinki
BEGIN:VEVENT
UID:2482@sinkkutapahtumat.fi
DTSTART;TZID=Europe/Helsinki:20240216T220000
DTEND;TZID=Europe/Helsinki:20240217T040000
DTSTAMP:20240115T111306Z
URL:https://sinkkutapahtumat.fi/tapahtumat/sinkkubileet-x-status-2/
SUMMARY:Sinkkubileet x Status
DESCRIPTION:Sinkkubileet x Status Forssassa 16.2.2024 klo 22 alkaen. Tervet
 uloa mukaan bilettämään.
ATTACH;FMTTYPE=image/jpeg:https://sinkkutapahtumat.fi/wp-content/uploads/2
 024/01/sinkkubileet-status.jpeg
CATEGORIES:sinkkubileet
LOCATION:Ravintola Status Forssa\, Wahreninkatu 4 A\, Forssa\, Suomi
X-APPLE-STRUCTURED-LOCATION;VALUE=URI;X-ADDRESS=Wahreninkatu 4 A\, Forssa\,
  Suomi;X-APPLE-RADIUS=100;X-TITLE=Ravintola Status Forssa:geo:0,0
END:VEVENT
BEGIN:VTIMEZONE
TZID:Europe/Helsinki
X-LIC-LOCATION:Europe/Helsinki
BEGIN:STANDARD
DTSTART:20231029T030000
TZOFFSETFROM:+0300
TZOFFSETTO:+0200
TZNAME:EET
END:STANDARD
END:VTIMEZONE
END:VCALENDAR