BEGIN:VCALENDAR
VERSION:2.0
PRODID:-//wp-events-plugin.com//7.2.3.1//EN
TZID:Europe/Helsinki
X-WR-TIMEZONE:Europe/Helsinki
BEGIN:VEVENT
UID:3652@sinkkutapahtumat.fi
DTSTART;TZID=Europe/Helsinki:20260425T180000
DTEND;TZID=Europe/Helsinki:20260425T180000
DTSTAMP:20260423T090657Z
URL:https://sinkkutapahtumat.fi/tapahtumat/sinkkuilta-oulussa-2/
SUMMARY:Sinkkuilta Oulussa
DESCRIPTION:Sinkkuilta Oulussa la 25.4.2026
ATTACH;FMTTYPE=image/jpeg:https://sinkkutapahtumat.fi/wp-content/uploads/2
 026/03/date-night-event.jpg
CATEGORIES:Oulun sinkut,sinkkuilta
LOCATION:Hietalahden Seelari\, Puomitie 12\, Oulu\, 90510\, Suomi
X-APPLE-STRUCTURED-LOCATION;VALUE=URI;X-ADDRESS=Puomitie 12\, Oulu\, 90510\
 , Suomi;X-APPLE-RADIUS=100;X-TITLE=Hietalahden Seelari:geo:0,0
END:VEVENT
BEGIN:VTIMEZONE
TZID:Europe/Helsinki
X-LIC-LOCATION:Europe/Helsinki
BEGIN:DAYLIGHT
DTSTART:20260329T040000
TZOFFSETFROM:+0200
TZOFFSETTO:+0300
TZNAME:EEST
END:DAYLIGHT
END:VTIMEZONE
END:VCALENDAR