BEGIN:VCALENDAR
VERSION:2.0
PRODID:-//wp-events-plugin.com//7.2.3.1//EN
TZID:Europe/Helsinki
X-WR-TIMEZONE:Europe/Helsinki
BEGIN:VEVENT
UID:1184@sinkkutapahtumat.fi
DTSTART;TZID=Europe/Helsinki:20220514T160000
DTEND;TZID=Europe/Helsinki:20220515T160000
DTSTAMP:20220404T100351Z
URL:https://sinkkutapahtumat.fi/tapahtumat/sinkkujen-kevatristeily/
SUMMARY:SINKKUJEN KEVÄTRISTEILY ☀️
DESCRIPTION:Sinkkujen kevätristeily 14.-15.5.2022 omalla ohjelmalla. Sinkk
 uristeily.\n14.5.2022 Helsingin Länsisatamasta lähtee Silja Europa 22 tu
 nnin risteilylle Tallinnaan.\nLaiva lähtee Länsisataman terminaalista 2 
 (uusi osa) klo 18.30.\nMaissa Tallinnassa saa olla klo 08-12 ja matka koht
 i Helsinkiä alkaa klo 12.30. Helsinkiin saavutaan 15.5 klo 16.
ATTACH;FMTTYPE=image/jpeg:https://sinkkutapahtumat.fi/wp-content/uploads/2
 021/12/Europa_0702_190817.jpg
CATEGORIES:Jyväskylän sinkut,Kuopion sinkut,Oulun
 sinkut,sinkkuristeily,Tampereen sinkut,Turun sinkut,Uudenmaan sinkut
LOCATION:MS Silja Europa\, MS Silja Europa\, Helsinki\, Suomi
X-APPLE-STRUCTURED-LOCATION;VALUE=URI;X-ADDRESS=MS Silja Europa\, Helsinki\
 , Suomi;X-APPLE-RADIUS=100;X-TITLE=MS Silja Europa:geo:0,0
END:VEVENT
BEGIN:VTIMEZONE
TZID:Europe/Helsinki
X-LIC-LOCATION:Europe/Helsinki
BEGIN:DAYLIGHT
DTSTART:20220327T040000
TZOFFSETFROM:+0200
TZOFFSETTO:+0300
TZNAME:EEST
END:DAYLIGHT
END:VTIMEZONE
END:VCALENDAR