BEGIN:VCALENDAR
VERSION:2.0
PRODID:-//wp-events-plugin.com//7.2.3.1//EN
TZID:Europe/Helsinki
X-WR-TIMEZONE:Europe/Helsinki
BEGIN:VEVENT
UID:3114@sinkkutapahtumat.fi
DTSTART;TZID=Europe/Helsinki:20241111T140000
DTEND;TZID=Europe/Helsinki:20241111T160000
DTSTAMP:20241103T062135Z
URL:https://sinkkutapahtumat.fi/tapahtumat/sinkkukavely-espoossa-2/
SUMMARY:Sinkkukävely Espoossa
DESCRIPTION:Sinkkukävely Espoossa\n11.11. on Sinkkujen Päivä (Singles' D
 ay)\, joten juhlistetaan sitä yhdessä iltapäiväkävelyllä!\n\nKävely
 n lähtöpaikkana on Tapiolan kirjasto\, sisäänkäynnin edessä / ulkopu
 olella. Tapaaminen klo 14.00 maanantaina 11.11.2024.\n\nPäätetään yhde
 ssä käveltävä reitti\, noin 2-3 km. Sateen sattuessa voidaan mennä va
 ikka kahville.\n\nTunnistat tapahtuman järjestäjän oranssista huivista.
  Voit kysyä ja varmistaa "onko tämä lähtö sinkkukävelylle".\n\nKäve
 lytapahtuma on ilmainen. (Kahvilla käymiset jokainen maksaa itse.) Ilmoit
 tautumista ei tarvita\, saavut vain ajoissa paikalle.\n\nIkään katsomatt
 a\, tervetuloa mukaan kaikki sinkut!
ATTACH;FMTTYPE=image/jpeg:https://sinkkutapahtumat.fi/wp-content/uploads/2
 024/10/kavely.jpg
CATEGORIES:kävely,Uudenmaan sinkut
LOCATION:Uusimaa\, Espoo\, Tapiola\,  Kulttuuriaukio 2\, Espoo\, Suomi
X-APPLE-STRUCTURED-LOCATION;VALUE=URI;X-ADDRESS= Kulttuuriaukio 2\, Espoo\,
  Suomi;X-APPLE-RADIUS=100;X-TITLE=Uusimaa\, Espoo\, Tapiola:geo:0,0
END:VEVENT
BEGIN:VTIMEZONE
TZID:Europe/Helsinki
X-LIC-LOCATION:Europe/Helsinki
BEGIN:STANDARD
DTSTART:20241027T030000
TZOFFSETFROM:+0300
TZOFFSETTO:+0200
TZNAME:EET
END:STANDARD
END:VTIMEZONE
END:VCALENDAR