BEGIN:VCALENDAR
VERSION:2.0
PRODID:-//wp-events-plugin.com//7.2.3.1//EN
TZID:Europe/Helsinki
X-WR-TIMEZONE:Europe/Helsinki
BEGIN:VEVENT
UID:2423@sinkkutapahtumat.fi
DTSTART;TZID=Europe/Helsinki:20231111T200000
DTEND;TZID=Europe/Helsinki:20231111T210000
DTSTAMP:20231103T130432Z
URL:https://sinkkutapahtumat.fi/tapahtumat/sinkkukeilailu/
SUMMARY:Sinkkukeilailu
DESCRIPTION:Sinkkujen päivän 11.11.202 sinkkukeilaustapahtuma klo 21-22.\
 n\nMukaan mahtuu 16+16 etukäteen ilmoittautunutta. Ilmoittautumiset viime
 istään pe 10.11 mennessä sähköpostilla info@bowlingcorner.fi aiheena 
 Sinkkukeilaus.\n\nParit arvotaan radoille ja yhdelle rataparille mahtuu 2+
 2 sinkkua.\n\nOsallistumismaksu 15€/hlö (1h hohtokeilailua. sis.kenkäv
 uokran 2€)\n\nTapahtuman aikana sinkkujen päivän juomatarjouksia.\n\nN
 appaa sinkkukaveri mukaan ja tulkaa yhdessä viettämään mukavaa aikaa j
 a tutustumaan muihin sinkkuihin.\n\nTapahtuma on K18.
CATEGORIES:liikunta,pelit
LOCATION:Bowling Corner &amp\; Billiard\, Ojakkalantie 2\, Nurmijärvi\, 01
 900\, Suomi
X-APPLE-STRUCTURED-LOCATION;VALUE=URI;X-ADDRESS=Ojakkalantie 2\, Nurmijärv
 i\, 01900\, Suomi;X-APPLE-RADIUS=100;X-TITLE=Bowling Corner & Billiard:geo
 :0,0
END:VEVENT
BEGIN:VTIMEZONE
TZID:Europe/Helsinki
X-LIC-LOCATION:Europe/Helsinki
BEGIN:STANDARD
DTSTART:20231029T030000
TZOFFSETFROM:+0300
TZOFFSETTO:+0200
TZNAME:EET
END:STANDARD
END:VTIMEZONE
END:VCALENDAR