BEGIN:VCALENDAR
VERSION:2.0
PRODID:-//wp-events-plugin.com//7.2.3.1//EN
TZID:Europe/Helsinki
X-WR-TIMEZONE:Europe/Helsinki
BEGIN:VEVENT
UID:2066@sinkkutapahtumat.fi
DTSTART;TZID=Europe/Helsinki:20230312T130000
DTEND;TZID=Europe/Helsinki:20230312T160000
DTSTAMP:20230219T135743Z
URL:https://sinkkutapahtumat.fi/tapahtumat/tampereella-makkaranpaistoa/
SUMMARY:Tampereella makkaranpaistoa
DESCRIPTION:Su 12.3.2023 klo 13 alkaen Tampereella makkaranpaistoa. Helpot 
 kulkyhteydet paikalle. Tule mukaan pienelle kävelyretkelle ja makkaranpai
 stoon hyvässä seurassa.
ATTACH;FMTTYPE=image/jpeg:https://sinkkutapahtumat.fi/wp-content/uploads/2
 022/03/makkaranpaistoa.jpeg
CATEGORIES:Tampereen sinkut,vaellussinkut
LOCATION:Kaupinojan uimaranta\, Kaupinpuistonkatu 1\, Tampere\, Suomi
X-APPLE-STRUCTURED-LOCATION;VALUE=URI;X-ADDRESS=Kaupinpuistonkatu 1\, Tampe
 re\, Suomi;X-APPLE-RADIUS=100;X-TITLE=Kaupinojan uimaranta:geo:0,0
END:VEVENT
BEGIN:VTIMEZONE
TZID:Europe/Helsinki
X-LIC-LOCATION:Europe/Helsinki
BEGIN:STANDARD
DTSTART:20221030T030000
TZOFFSETFROM:+0300
TZOFFSETTO:+0200
TZNAME:EET
END:STANDARD
END:VTIMEZONE
END:VCALENDAR