BEGIN:VCALENDAR
VERSION:2.0
PRODID:-//wp-events-plugin.com//7.2.3.1//EN
TZID:Europe/Helsinki
X-WR-TIMEZONE:Europe/Helsinki
BEGIN:VEVENT
UID:3115@sinkkutapahtumat.fi
DTSTART;TZID=Europe/Helsinki:20241115T190000
DTEND;TZID=Europe/Helsinki:20241115T234500
DTSTAMP:20241105T170359Z
URL:https://sinkkutapahtumat.fi/tapahtumat/tutustumista-illanviettoa-ja-ka
 raokea/
SUMMARY:Tutustumista\, illanviettoa ja karaokea
DESCRIPTION:pe 15.11.2024 klo 19:00 alkaen @K-Kino\, Klaukkala. Tervetuloa 
 viettämään mukavaa iltaa!
ATTACH;FMTTYPE=image/jpeg:https://sinkkutapahtumat.fi/wp-content/uploads/2
 024/11/karaoke.jpg
CATEGORIES:baari,juttelu,kahvi,karaoke,olut,sinkkubileet,tanssi,tee,Uudenm
 aan sinkut
LOCATION:K-Kino\, Lepsämäntie 1\, Klaukkala\, Nurmijärvi\, Suomi
X-APPLE-STRUCTURED-LOCATION;VALUE=URI;X-ADDRESS=Lepsämäntie 1\, Klaukkala
 \, Nurmijärvi\, Suomi;X-APPLE-RADIUS=100;X-TITLE=K-Kino:geo:0,0
END:VEVENT
BEGIN:VTIMEZONE
TZID:Europe/Helsinki
X-LIC-LOCATION:Europe/Helsinki
BEGIN:STANDARD
DTSTART:20241027T030000
TZOFFSETFROM:+0300
TZOFFSETTO:+0200
TZNAME:EET
END:STANDARD
END:VTIMEZONE
END:VCALENDAR