BEGIN:VCALENDAR
VERSION:2.0
PRODID:-//wp-events-plugin.com//7.2.3.1//EN
TZID:Europe/Helsinki
X-WR-TIMEZONE:Europe/Helsinki
BEGIN:VEVENT
UID:3124@sinkkutapahtumat.fi
DTSTART;TZID=Europe/Helsinki:20241228T203000
DTEND;TZID=Europe/Helsinki:20241228T213000
DTSTAMP:20241222T072146Z
URL:https://sinkkutapahtumat.fi/tapahtumat/uudenvuoden-etkot/
SUMMARY:Uudenvuoden etkot - Sinkut linjoilla
DESCRIPTION:Sinkut linjoilla - kuin kaverille soittaisi: Uudenvuoden etkot.
   Lauantai-iltana sinkku treffit linjoilla. Juttele ja tutustu. Luo yhteyk
 siä. Tule mukaan paikasta riippumattomasti. Tervetuloa sinkut ympäri Suo
 men.
ATTACH;FMTTYPE=image/jpeg:https://sinkkutapahtumat.fi/wp-content/uploads/2
 024/12/uv-etkot.jpeg
CATEGORIES:juttelu,Jyväskylän sinkut,Kuopion sinkut,Oulun
 sinkut,Tampereen sinkut,Turun sinkut,Uudenmaan sinkut,web-netti
LOCATION:https://meet.jit.si/moderated/1acaa839d30bd5ba3b3d71148af0e8736d8d
 49bd55d916929a3e4626a15201a5
END:VEVENT
BEGIN:VTIMEZONE
TZID:Europe/Helsinki
X-LIC-LOCATION:Europe/Helsinki
BEGIN:STANDARD
DTSTART:20241027T030000
TZOFFSETFROM:+0300
TZOFFSETTO:+0200
TZNAME:EET
END:STANDARD
END:VTIMEZONE
END:VCALENDAR