BEGIN:VCALENDAR
VERSION:2.0
PRODID:-//wp-events-plugin.com//7.2.3.1//EN
TZID:Europe/Helsinki
X-WR-TIMEZONE:Europe/Helsinki
BEGIN:VEVENT
UID:4@sinkkutapahtumat.fi
DTSTART;TZID=Europe/Helsinki;VALUE=DATE:20190421
DTEND;TZID=Europe/Helsinki;VALUE=DATE:20190428
DTSTAMP:20190420T084041Z
URL:https://sinkkutapahtumat.fi/tapahtumat/vaellusmatka-kreetalle/
SUMMARY:Vaellusmatka Kreetalle
DESCRIPTION:Vaellusmatka 21-27.4.2019 Kreetalle sinkuille.
ATTACH;FMTTYPE=image/jpeg:https://sinkkutapahtumat.fi/wp-content/uploads/2
 018/10/person-1209310_1280-e1556798105609.jpg
CATEGORIES:kävely,liikunta,matka,vaellussinkut
LOCATION:Kreeta (yleinen)\, Apokoronas\, Vamos\, Kreikka
X-APPLE-STRUCTURED-LOCATION;VALUE=URI;X-ADDRESS=Apokoronas\, Vamos\, Kreikk
 a;X-APPLE-RADIUS=100;X-TITLE=Kreeta (yleinen):geo:0,0
END:VEVENT
BEGIN:VTIMEZONE
TZID:Europe/Helsinki
X-LIC-LOCATION:Europe/Helsinki
BEGIN:DAYLIGHT
DTSTART:20190331T040000
TZOFFSETFROM:+0200
TZOFFSETTO:+0300
TZNAME:EEST
END:DAYLIGHT
END:VTIMEZONE
END:VCALENDAR